BEGIN:VCALENDAR
VERSION:2.0
PRODID:-//wp-events-plugin.com//7.2.3.1//EN
TZID:Europe/Amsterdam
X-WR-TIMEZONE:Europe/Amsterdam
BEGIN:VEVENT
UID:48@triumphera.nl
DTSTART;TZID=Europe/Amsterdam:20241128T193000
DTEND;TZID=Europe/Amsterdam:20241128T213000
DTSTAMP:20240817T134030Z
URL:https://triumphera.nl/agenda/avios-triumphera-ds-1-d-w-s-ds-1/
SUMMARY:AVIOS/Triumphera DS 1 - D.W.S. DS 1
DESCRIPTION:Wedstrijd: 1000D2M   AD\, Datum: donderdag 28 november\, 19:30
CATEGORIES:Dames 2
LOCATION:V.d. Bij-Hal\, Maartensplein 1\, 9291BZ  Kollum\, Nederland
GEO:53.280880;6.149040
X-APPLE-STRUCTURED-LOCATION;VALUE=URI;X-ADDRESS=Maartensplein 1\, 9291BZ  K
 ollum\, Nederland;X-APPLE-RADIUS=100;X-TITLE=V.d. Bij-Hal:geo:53.280880,6.
 149040
END:VEVENT
BEGIN:VTIMEZONE
TZID:Europe/Amsterdam
X-LIC-LOCATION:Europe/Amsterdam
BEGIN:STANDARD
DTSTART:20241027T020000
TZOFFSETFROM:+0200
TZOFFSETTO:+0100
TZNAME:CET
END:STANDARD
END:VTIMEZONE
END:VCALENDAR