BEGIN:VCALENDAR
VERSION:2.0
PRODID:-//wp-events-plugin.com//7.2.3.1//EN
TZID:Europe/Amsterdam
X-WR-TIMEZONE:Europe/Amsterdam
BEGIN:VEVENT
UID:40@triumphera.nl
DTSTART;TZID=Europe/Amsterdam:20240910T204500
DTEND;TZID=Europe/Amsterdam:20240910T224500
DTSTAMP:20240827T131650Z
URL:https://triumphera.nl/agenda/avios-triumphera-ds-1-dovo-hujades-ds-2/
SUMMARY:AVIOS/Triumphera DS 1 - Dovo/Hujades DS 2
DESCRIPTION:Wedstrijd: 1000BD1T17AB\, Datum: dinsdag 10 september\, 20:45
CATEGORIES:Dames 2
LOCATION:Sikkemahal\, Sportloane 1\, 9271VN  De Westereen\, Nederland
GEO:53.256540;6.040570
X-APPLE-STRUCTURED-LOCATION;VALUE=URI;X-ADDRESS=Sportloane 1\, 9271VN  De W
 estereen\, Nederland;X-APPLE-RADIUS=100;X-TITLE=Sikkemahal:geo:53.256540,6
 .040570
END:VEVENT
BEGIN:VTIMEZONE
TZID:Europe/Amsterdam
X-LIC-LOCATION:Europe/Amsterdam
BEGIN:DAYLIGHT
DTSTART:20240331T030000
TZOFFSETFROM:+0100
TZOFFSETTO:+0200
TZNAME:CEST
END:DAYLIGHT
END:VTIMEZONE
END:VCALENDAR