BEGIN:VCALENDAR
VERSION:2.0
PRODID:-//wp-events-plugin.com//7.2.3.1//EN
TZID:Europe/Amsterdam
X-WR-TIMEZONE:Europe/Amsterdam
BEGIN:VEVENT
UID:23@triumphera.nl
DTSTART;TZID=Europe/Amsterdam:20240928T150000
DTEND;TZID=Europe/Amsterdam:20240928T170000
DTSTAMP:20240817T134005Z
URL:https://triumphera.nl/agenda/dosko-acta-ds-1-triumphera-ds-1-2/
SUMMARY:DOSKO/Acta DS 1 - Triumphera DS 1
DESCRIPTION:Wedstrijd: 1000BD1E25BC\, Datum: zaterdag 28 september\, 15:00
CATEGORIES:Dames 1
LOCATION:Kaatshal De Trije\, Jan Rodenhuisplein 3\, 8801ET  Franeker\, Nede
 rland
GEO:53.191390;5.539180
X-APPLE-STRUCTURED-LOCATION;VALUE=URI;X-ADDRESS=Jan Rodenhuisplein 3\, 8801
 ET  Franeker\, Nederland;X-APPLE-RADIUS=100;X-TITLE=Kaatshal De Trije:geo:
 53.191390,5.539180
END:VEVENT
BEGIN:VTIMEZONE
TZID:Europe/Amsterdam
X-LIC-LOCATION:Europe/Amsterdam
BEGIN:DAYLIGHT
DTSTART:20240331T030000
TZOFFSETFROM:+0100
TZOFFSETTO:+0200
TZNAME:CEST
END:DAYLIGHT
END:VTIMEZONE
END:VCALENDAR