BEGIN:VCALENDAR
VERSION:2.0
PRODID:-//wp-events-plugin.com//7.2.3.1//EN
TZID:Europe/Amsterdam
X-WR-TIMEZONE:Europe/Amsterdam
BEGIN:VEVENT
UID:82@triumphera.nl
DTSTART;TZID=Europe/Amsterdam:20241114T203000
DTEND;TZID=Europe/Amsterdam:20241114T223000
DTSTAMP:20241011T130258Z
URL:https://triumphera.nl/agenda/eastermar-triumphera-ds-3/
SUMMARY:Eastermar - Triumphera DS 3
DESCRIPTION:
CATEGORIES:Dames 3
END:VEVENT
BEGIN:VTIMEZONE
TZID:Europe/Amsterdam
X-LIC-LOCATION:Europe/Amsterdam
BEGIN:STANDARD
DTSTART:20241027T020000
TZOFFSETFROM:+0200
TZOFFSETTO:+0100
TZNAME:CET
END:STANDARD
END:VTIMEZONE
END:VCALENDAR