BEGIN:VCALENDAR
VERSION:2.0
PRODID:-//wp-events-plugin.com//7.2.3.1//EN
TZID:Europe/Amsterdam
X-WR-TIMEZONE:Europe/Amsterdam
BEGIN:VEVENT
UID:105@triumphera.nl
DTSTART;TZID=Europe/Amsterdam;VALUE=DATE:20260427
DTEND;TZID=Europe/Amsterdam;VALUE=DATE:20260428
DTSTAMP:20250909T194211Z
URL:https://triumphera.nl/agenda/geen-trainingen-6/
SUMMARY:Geen training(en)
DESCRIPTION:In verband met Koningsdag is de Van der Bij-hal gesloten.
CATEGORIES:Algemeen
END:VEVENT
BEGIN:VTIMEZONE
TZID:Europe/Amsterdam
X-LIC-LOCATION:Europe/Amsterdam
BEGIN:DAYLIGHT
DTSTART:20260329T030000
TZOFFSETFROM:+0100
TZOFFSETTO:+0200
TZNAME:CEST
END:DAYLIGHT
END:VTIMEZONE
END:VCALENDAR