BEGIN:VCALENDAR
VERSION:2.0
PRODID:-//wp-events-plugin.com//7.2.3.1//EN
TZID:Europe/Amsterdam
X-WR-TIMEZONE:Europe/Amsterdam
BEGIN:VEVENT
UID:147@triumphera.nl
DTSTART;TZID=Europe/Amsterdam:20260312T210000
DTEND;TZID=Europe/Amsterdam:20260312T230000
DTSTAMP:20250909T194725Z
URL:https://triumphera.nl/agenda/triumphera-ds-2-vc-buitenpost-ds-2/
SUMMARY:Triumphera DS 2 - vc Buitenpost DS 2
DESCRIPTION:Wedstrijd: 1000D2O   EI\, Datum: donderdag 12 maart\, 21:00
CATEGORIES:Dames 2
LOCATION:V.d. Bij-Hal\, Maartensplein 1\, 9291BZ  Kollum\, Nederland
GEO:53.280880;6.149040
X-APPLE-STRUCTURED-LOCATION;VALUE=URI;X-ADDRESS=Maartensplein 1\, 9291BZ  K
 ollum\, Nederland;X-APPLE-RADIUS=100;X-TITLE=V.d. Bij-Hal:geo:53.280880,6.
 149040
END:VEVENT
BEGIN:VTIMEZONE
TZID:Europe/Amsterdam
X-LIC-LOCATION:Europe/Amsterdam
BEGIN:STANDARD
DTSTART:20251026T020000
TZOFFSETFROM:+0200
TZOFFSETTO:+0100
TZNAME:CET
END:STANDARD
END:VTIMEZONE
END:VCALENDAR