BEGIN:VCALENDAR
VERSION:2.0
PRODID:-//wp-events-plugin.com//7.2.3.1//EN
TZID:Europe/Amsterdam
X-WR-TIMEZONE:Europe/Amsterdam
BEGIN:VEVENT
UID:162@triumphera.nl
DTSTART;TZID=Europe/Amsterdam:20250925T193000
DTEND;TZID=Europe/Amsterdam:20250925T213000
DTSTAMP:20250909T194810Z
URL:https://triumphera.nl/agenda/triumphera-ds-3-vc058-ds-12/
SUMMARY:Triumphera DS 3 - VC058 DS 12
DESCRIPTION:Wedstrijd: 1000BD1C20DA\, Datum: donderdag 25 september\, 19:30
CATEGORIES:Dames 3
LOCATION:V.d. Bij-Hal\, Maartensplein 1\, 9291BZ  Kollum\, Nederland
GEO:53.280880;6.149040
X-APPLE-STRUCTURED-LOCATION;VALUE=URI;X-ADDRESS=Maartensplein 1\, 9291BZ  K
 ollum\, Nederland;X-APPLE-RADIUS=100;X-TITLE=V.d. Bij-Hal:geo:53.280880,6.
 149040
END:VEVENT
BEGIN:VTIMEZONE
TZID:Europe/Amsterdam
X-LIC-LOCATION:Europe/Amsterdam
BEGIN:DAYLIGHT
DTSTART:20250330T030000
TZOFFSETFROM:+0100
TZOFFSETTO:+0200
TZNAME:CEST
END:DAYLIGHT
END:VTIMEZONE
END:VCALENDAR