BEGIN:VCALENDAR
VERSION:2.0
PRODID:-//wp-events-plugin.com//7.2.3.1//EN
TZID:Europe/Amsterdam
X-WR-TIMEZONE:Europe/Amsterdam
BEGIN:VEVENT
UID:187@triumphera.nl
DTSTART;TZID=Europe/Amsterdam:20260326T193000
DTEND;TZID=Europe/Amsterdam:20260326T213000
DTSTAMP:20260130T112422Z
URL:https://triumphera.nl/agenda/triumphera-xa-1-de-roeken-dvc-xa-1/
SUMMARY:Triumphera XA 1 - De Roeken/DVC XA 1
DESCRIPTION:Wedstrijd: 1000JA2A2 DF\, Datum: donderdag 26 maart\, 19:30
CATEGORIES:Jeugd A
LOCATION:V.d. Bij-Hal\, Maartensplein 1\, 9291BZ  Kollum\, Nederland
GEO:53.280880;6.149040
X-APPLE-STRUCTURED-LOCATION;VALUE=URI;X-ADDRESS=Maartensplein 1\, 9291BZ  K
 ollum\, Nederland;X-APPLE-RADIUS=100;X-TITLE=V.d. Bij-Hal:geo:53.280880,6.
 149040
END:VEVENT
BEGIN:VTIMEZONE
TZID:Europe/Amsterdam
X-LIC-LOCATION:Europe/Amsterdam
BEGIN:STANDARD
DTSTART:20251026T020000
TZOFFSETFROM:+0200
TZOFFSETTO:+0100
TZNAME:CET
END:STANDARD
END:VTIMEZONE
END:VCALENDAR