BEGIN:VCALENDAR
VERSION:2.0
PRODID:-//wp-events-plugin.com//7.2.3.1//EN
TZID:Europe/Amsterdam
X-WR-TIMEZONE:Europe/Amsterdam
BEGIN:VEVENT
UID:27@triumphera.nl
DTSTART;TZID=Europe/Amsterdam:20241107T210000
DTEND;TZID=Europe/Amsterdam:20241107T230000
DTSTAMP:20240817T134006Z
URL:https://triumphera.nl/agenda/v-v-d-s-o-ds-1-triumphera-ds-1-2/
SUMMARY:v.v. D.S.O. DS 1 - Triumphera DS 1
DESCRIPTION:Wedstrijd: 1000D1P   GA\, Datum: donderdag 7 november\, 21:00
CATEGORIES:Dames 1
LOCATION:MFC De Veste\, Verbindingsweg 7\, 9865TE  Opende\, Nederland
GEO:53.174830;6.199040
X-APPLE-STRUCTURED-LOCATION;VALUE=URI;X-ADDRESS=Verbindingsweg 7\, 9865TE  
 Opende\, Nederland;X-APPLE-RADIUS=100;X-TITLE=MFC De Veste:geo:53.174830,6
 .199040
END:VEVENT
BEGIN:VTIMEZONE
TZID:Europe/Amsterdam
X-LIC-LOCATION:Europe/Amsterdam
BEGIN:STANDARD
DTSTART:20241027T020000
TZOFFSETFROM:+0200
TZOFFSETTO:+0100
TZNAME:CET
END:STANDARD
END:VTIMEZONE
END:VCALENDAR